BEGIN:VCALENDAR
VERSION:2.0
PRODID:-//Picnic Heist | Bold, Beautiful Picture Books That Matter - ECPv6.15.20//NONSGML v1.0//EN
CALSCALE:GREGORIAN
METHOD:PUBLISH
X-ORIGINAL-URL:https://picnicheistpublishing.com
X-WR-CALDESC:Events for Picnic Heist | Bold, Beautiful Picture Books That Matter
REFRESH-INTERVAL;VALUE=DURATION:PT1H
X-Robots-Tag:noindex
X-PUBLISHED-TTL:PT1H
BEGIN:VTIMEZONE
TZID:America/Vancouver
BEGIN:DAYLIGHT
TZOFFSETFROM:-0800
TZOFFSETTO:-0700
TZNAME:PDT
DTSTART:20250309T100000
END:DAYLIGHT
BEGIN:STANDARD
TZOFFSETFROM:-0700
TZOFFSETTO:-0800
TZNAME:PST
DTSTART:20251102T090000
END:STANDARD
BEGIN:DAYLIGHT
TZOFFSETFROM:-0800
TZOFFSETTO:-0700
TZNAME:PDT
DTSTART:20260308T100000
END:DAYLIGHT
BEGIN:STANDARD
TZOFFSETFROM:-0700
TZOFFSETTO:-0800
TZNAME:PST
DTSTART:20261101T090000
END:STANDARD
BEGIN:DAYLIGHT
TZOFFSETFROM:-0800
TZOFFSETTO:-0700
TZNAME:PDT
DTSTART:20270314T100000
END:DAYLIGHT
BEGIN:STANDARD
TZOFFSETFROM:-0700
TZOFFSETTO:-0800
TZNAME:PST
DTSTART:20271107T090000
END:STANDARD
END:VTIMEZONE
BEGIN:VEVENT
DTSTART;TZID=America/Vancouver:20260711T093000
DTEND;TZID=America/Vancouver:20260711T100000
DTSTAMP:20260424T121128
CREATED:20260422T150146Z
LAST-MODIFIED:20260422T150330Z
UID:10000078-1783762200-1783764000@picnicheistpublishing.com
SUMMARY:Cynthia Mackey Story Time at Peninsula Country Market | Summer 2026
DESCRIPTION:🐝 Purchase your copy here!\n   \n\n\n  Spend your Saturday mornings this summer with author Cynthia Mackey at the\n  Peninsula Country Market.\n \n\n  This special story time series takes place on select Saturdays throughout the season\, offering families a chance to gather\, listen\, and enjoy stories together in an open-air market setting. Cynthia will be reading from\n  If a Bumblebee Lands on Your Toe and Butterfly Sea\, bringing gentle\, nature-filled storytelling to life for young listeners.\n \n\n  Story time begins at 9:30 AM and runs for about 30 minutes—just enough time to settle in\, enjoy a story\, and then explore everything the market has to offer.\n \n\n  Story Time Dates:\n  Saturday\, July 18\n  Saturday\, August 1\, 8\, 15\, and 22\n  Saturday\, September 5\n \n\n  Location:\n  Saanich Fairgrounds\n  1628 Stelly’s Cross Road\n  Saanichton\, BC\n \n\n  The Peninsula Country Market is a beloved local tradition\, known for its fresh produce\, handmade goods\, and vibrant community atmosphere. Story time makes for a perfect start to a morning visit—especially for families with young children.\n \n\n  Learn more about the market:\n  \n    Peninsula Country Market website\n  \n \n\n  Follow Cynthia Mackey for updates:\n  \n    @books.by.cindy\n  \n \n\n  Discover more stories from Picnic Heist Publishing\n\n\n  \n    Browse our full collection of picture books
URL:https://picnicheistpublishing.com/event/cynthia-mackey-story-time-at-peninsula-country-market-summer-2026/2026-07-11/
LOCATION:Peninsula Country Market\, 1528 Stelly's Cross Road\, Saanichton\, British Columbia\, V8M 1S8\, Canada
END:VEVENT
BEGIN:VEVENT
DTSTART;TZID=America/Vancouver:20260718T093000
DTEND;TZID=America/Vancouver:20260718T100000
DTSTAMP:20260424T121128
CREATED:20260422T150146Z
LAST-MODIFIED:20260422T150330Z
UID:10000079-1784367000-1784368800@picnicheistpublishing.com
SUMMARY:Cynthia Mackey Story Time at Peninsula Country Market | Summer 2026
DESCRIPTION:🐝 Purchase your copy here!\n   \n\n\n  Spend your Saturday mornings this summer with author Cynthia Mackey at the\n  Peninsula Country Market.\n \n\n  This special story time series takes place on select Saturdays throughout the season\, offering families a chance to gather\, listen\, and enjoy stories together in an open-air market setting. Cynthia will be reading from\n  If a Bumblebee Lands on Your Toe and Butterfly Sea\, bringing gentle\, nature-filled storytelling to life for young listeners.\n \n\n  Story time begins at 9:30 AM and runs for about 30 minutes—just enough time to settle in\, enjoy a story\, and then explore everything the market has to offer.\n \n\n  Story Time Dates:\n  Saturday\, July 18\n  Saturday\, August 1\, 8\, 15\, and 22\n  Saturday\, September 5\n \n\n  Location:\n  Saanich Fairgrounds\n  1628 Stelly’s Cross Road\n  Saanichton\, BC\n \n\n  The Peninsula Country Market is a beloved local tradition\, known for its fresh produce\, handmade goods\, and vibrant community atmosphere. Story time makes for a perfect start to a morning visit—especially for families with young children.\n \n\n  Learn more about the market:\n  \n    Peninsula Country Market website\n  \n \n\n  Follow Cynthia Mackey for updates:\n  \n    @books.by.cindy\n  \n \n\n  Discover more stories from Picnic Heist Publishing\n\n\n  \n    Browse our full collection of picture books
URL:https://picnicheistpublishing.com/event/cynthia-mackey-story-time-at-peninsula-country-market-summer-2026/2026-07-18/
LOCATION:Peninsula Country Market\, 1528 Stelly's Cross Road\, Saanichton\, British Columbia\, V8M 1S8\, Canada
END:VEVENT
BEGIN:VEVENT
DTSTART;TZID=America/Vancouver:20260725T093000
DTEND;TZID=America/Vancouver:20260725T100000
DTSTAMP:20260424T121128
CREATED:20260422T150146Z
LAST-MODIFIED:20260422T150330Z
UID:10000080-1784971800-1784973600@picnicheistpublishing.com
SUMMARY:Cynthia Mackey Story Time at Peninsula Country Market | Summer 2026
DESCRIPTION:🐝 Purchase your copy here!\n   \n\n\n  Spend your Saturday mornings this summer with author Cynthia Mackey at the\n  Peninsula Country Market.\n \n\n  This special story time series takes place on select Saturdays throughout the season\, offering families a chance to gather\, listen\, and enjoy stories together in an open-air market setting. Cynthia will be reading from\n  If a Bumblebee Lands on Your Toe and Butterfly Sea\, bringing gentle\, nature-filled storytelling to life for young listeners.\n \n\n  Story time begins at 9:30 AM and runs for about 30 minutes—just enough time to settle in\, enjoy a story\, and then explore everything the market has to offer.\n \n\n  Story Time Dates:\n  Saturday\, July 18\n  Saturday\, August 1\, 8\, 15\, and 22\n  Saturday\, September 5\n \n\n  Location:\n  Saanich Fairgrounds\n  1628 Stelly’s Cross Road\n  Saanichton\, BC\n \n\n  The Peninsula Country Market is a beloved local tradition\, known for its fresh produce\, handmade goods\, and vibrant community atmosphere. Story time makes for a perfect start to a morning visit—especially for families with young children.\n \n\n  Learn more about the market:\n  \n    Peninsula Country Market website\n  \n \n\n  Follow Cynthia Mackey for updates:\n  \n    @books.by.cindy\n  \n \n\n  Discover more stories from Picnic Heist Publishing\n\n\n  \n    Browse our full collection of picture books
URL:https://picnicheistpublishing.com/event/cynthia-mackey-story-time-at-peninsula-country-market-summer-2026/2026-07-25/
LOCATION:Peninsula Country Market\, 1528 Stelly's Cross Road\, Saanichton\, British Columbia\, V8M 1S8\, Canada
END:VEVENT
BEGIN:VEVENT
DTSTART;TZID=America/Vancouver:20260725T120000
DTEND;TZID=America/Vancouver:20260725T150000
DTSTAMP:20260424T121128
CREATED:20260422T143829Z
LAST-MODIFIED:20260422T144200Z
UID:10000005-1784980800-1784991600@picnicheistpublishing.com
SUMMARY:Cynthia Mackey Book Signing at Chapters Nanaimo | July 25\, 2026
DESCRIPTION:🐝 Purchase your copy here \n\nJoin author Cynthia Mackey for a book signing at\nChapters Nanaimo in Nanaimo\, British Columbia\, on\nSaturday\, July 25\, 2026\, from 12:00 PM to 3:00 PM PDT. \nMeet Cynthia Mackey and discover the picture books she’ll be signing\, including\nIf a Bumblebee Lands on Your Toe and Butterfly Sea. \nChapters Nanaimo is located in Woodgrove Centre and offers a welcoming setting for readers\, families\, and book lovers to stop by and connect with the author in person. \nThe signing will take place at:\nChapters Nanaimo\n6670 Mary Ellen Drive\nNanaimo\, BC V9V 1T7 \nStore details:\nChapters Nanaimo store page \nFollow Cynthia Mackey for updates:\n@books.by.cindy
URL:https://picnicheistpublishing.com/event/cynthia-mackey-book-signing-at-chapters-nanaimo-july-25-2026/
LOCATION:Chapters naimo\, 6670 Mary Ellen Dr\, Nanaimo\, British Columbia\, V9V 1T7\, Canada
END:VEVENT
END:VCALENDAR