BEGIN:VCALENDAR
VERSION:2.0
PRODID:-//Picnic Heist | Bold, Beautiful Picture Books That Matter - ECPv6.15.20//NONSGML v1.0//EN
CALSCALE:GREGORIAN
METHOD:PUBLISH
X-WR-CALNAME:Picnic Heist | Bold, Beautiful Picture Books That Matter
X-ORIGINAL-URL:https://picnicheistpublishing.com
X-WR-CALDESC:Events for Picnic Heist | Bold, Beautiful Picture Books That Matter
REFRESH-INTERVAL;VALUE=DURATION:PT1H
X-Robots-Tag:noindex
X-PUBLISHED-TTL:PT1H
BEGIN:VTIMEZONE
TZID:America/New_York
BEGIN:DAYLIGHT
TZOFFSETFROM:-0500
TZOFFSETTO:-0400
TZNAME:EDT
DTSTART:20240310T070000
END:DAYLIGHT
BEGIN:STANDARD
TZOFFSETFROM:-0400
TZOFFSETTO:-0500
TZNAME:EST
DTSTART:20241103T060000
END:STANDARD
BEGIN:DAYLIGHT
TZOFFSETFROM:-0500
TZOFFSETTO:-0400
TZNAME:EDT
DTSTART:20250309T070000
END:DAYLIGHT
BEGIN:STANDARD
TZOFFSETFROM:-0400
TZOFFSETTO:-0500
TZNAME:EST
DTSTART:20251102T060000
END:STANDARD
BEGIN:DAYLIGHT
TZOFFSETFROM:-0500
TZOFFSETTO:-0400
TZNAME:EDT
DTSTART:20260308T070000
END:DAYLIGHT
BEGIN:STANDARD
TZOFFSETFROM:-0400
TZOFFSETTO:-0500
TZNAME:EST
DTSTART:20261101T060000
END:STANDARD
BEGIN:DAYLIGHT
TZOFFSETFROM:-0500
TZOFFSETTO:-0400
TZNAME:EDT
DTSTART:20270314T070000
END:DAYLIGHT
BEGIN:STANDARD
TZOFFSETFROM:-0400
TZOFFSETTO:-0500
TZNAME:EST
DTSTART:20271107T060000
END:STANDARD
END:VTIMEZONE
BEGIN:VEVENT
DTSTART;VALUE=DATE:20260422
DTEND;VALUE=DATE:20260423
DTSTAMP:20260424T092649
CREATED:20260422T140817Z
LAST-MODIFIED:20260422T140833Z
UID:10000003-1776816000-1776902399@picnicheistpublishing.com
SUMMARY:Stuck Bumblebee Poetry Challenge 🐝🌼
DESCRIPTION:We’re excited to share a wonderful community event happening this Poetry Month:\nthe Stuck Bumblebee Poetry Challenge\, hosted by authors Joyce Uglow and Cynthia Mackey.In celebration of Earth Day and the joy of creative expression\, this free\, week-long challenge invites writers of all ages to explore poetry through daily prompts\, guest author features\, and inspiring writing tips. \nWhat to expect\n\nA new poetry prompt each day\nFlexibility to write in any poetic form\nFeatured guest authors sharing tips and inspiration\nOpportunities to participate in prize drawings\n\nWhether you’re a seasoned poet or just getting started\, this is a welcoming space to slow down\, observe the world around you\, and play with language in new ways. \nParticipation is simple: write a poem each day\, or whenever inspiration strikes\, using the provided prompts. Sharing your work is encouraged\, but completely optional. Engagement can be as public or private as you like. \nJoin the challenge\nLearn more\, sign up\, and follow along here:\n\nStuck Bumblebee Poetry Challenge\n \nAt Picnic Heist\, we love supporting initiatives that bring together storytelling\, creativity\, and community. This is exactly that. If you participate\, we’d love to hear how it goes.
URL:https://picnicheistpublishing.com/event/stuck-bumblebee-poetry-challenge-%f0%9f%90%9d%f0%9f%8c%bc/
LOCATION:British Columbia
END:VEVENT
BEGIN:VEVENT
DTSTART;TZID=America/New_York:20251101T100000
DTEND;TZID=America/New_York:20251101T130000
DTSTAMP:20260424T092649
CREATED:20250913T125020Z
LAST-MODIFIED:20250914T121058Z
UID:10000002-1761991200-1762002000@picnicheistpublishing.com
SUMMARY:Storytime Under the Sky: Milo’s Moonlight Mission & The Leonid Meteor Storm
DESCRIPTION:✨ Storytime Under the Sky: Milo’s Moonlight Mission & Leonid Meteor Storm ✨ \nJoin us at the Strasenburgh Planetarium for an evening of wonder as day turns into night! Kathleen will read Milo’s Moonlight Mission\, transporting you to a lunar adventure. As the sky fades to darkness\, experience one of the most famous celestial shows — the Leonid meteor shower\, known for its exhilarating meteor storms in years like 1999–2002\, when the skies lit up with thousands of shooting stars per hour. \nAbout the Venue\nThe Strasenburgh Planetarium is one of Rochester’s most beloved cultural landmarks.\nSince 1968\, it has invited visitors to journey through the cosmos with state-of-the-art star projectors\, immersive dome shows\, and inspiring astronomy programs.\nWhether you’re a first-time visitor or a longtime fan\, experiencing a story beneath its magnificent dome is unforgettable.\nFrom the moment you step inside\, you’ll be surrounded by the vast beauty of the night sky\, projected in stunning clarity overhead. \nWith its legacy of blending science\, art\, and imagination\, the Strasenburgh Planetarium is the perfect setting for a story that celebrates the wonder of both family and the stars. \nAbout the Leonid Meteor Shower\nEach November\, the Leonid meteor shower dazzles skywatchers as Earth passes through the debris trail of Comet Tempel–Tuttle.\nWhile the Leonids produce a modest 15 meteors per hour in most years\, they are legendary for their spectacular meteor storms —\nrare events when thousands of meteors streak across the sky in a single hour. \nFamous Leonid storms lit up the heavens in 1966\, 1999\, 2001\, and 2002\, leaving lasting memories for everyone lucky enough to see them.\nInside the Strasenburgh dome\, you’ll relive the majesty of these celestial fireworks\, with a 360-degree view that recreates the brilliance of the meteors blazing overhead. \nThe Leonids are not just a shower; they are a reminder of how vast and alive our universe is.\nAt the Planetarium\, you’ll experience this cosmic spectacle without the worry of clouds or city lights — just pure starlight and wonder. \nWhat to Expect\nJoin us for an unforgettable evening that combines the magic of storytelling\nwith the splendor of the stars: \n\nA live reading of Milo’s Moonlight Mission by author Kathleen Blasi.\nA breathtaking visual journey through the Leonid meteor storm\, projected across the planetarium dome.\nInteractive\, space-themed activities for explorers of all ages.\nA chance to meet the author and have your copy of the book signed.\n\nBring your imagination\, a sense of curiosity\, and be ready to see the sky come alive as pages turn above you and meteors streak across the heavens. \nAbout the Book\nIn Milo’s Moonlight Mission\, Captain Milo is ready to launch into outer space — but his most important crew member\, Mom\, is busy with everyday life. When a rare meteor storm lights up the sky\, Milo hopes she’ll join him on one unforgettable adventure. \n🌙 Themes: Family bonds\, curiosity\, perseverance\, the magic of night sky watching\n👦 Perfect for: Children ages 4–8\, families who love bedtime stories and stargazing \nAbout the Author\nKathleen M. Blasi writes heartfelt stories that shine a light on everyday heroes\, from children chasing their dreams to families sharing quiet moments together. Based in Upstate New York\, Kathleen is a longtime advocate for literacy and creativity. She has been a driving force in the Rochester Children’s Book Festival and regularly visits schools\, where she inspires young readers and budding writers alike. \nSupport the Author & Independent Publishing\n✨ Take the story home! ✨ \nCopies of Milo’s Moonlight Mission will be available at the event\, but you can also secure your copy in advance. By purchasing directly from Picnic Heist\, you’re supporting Kathleen and helping us continue to bring inspiring stories that spark wonder and connection to children and families everywhere. \n👉Buy Milo’s Moonlight Mission Now »
URL:https://picnicheistpublishing.com/event/storytime-under-the-sky/
LOCATION:British Columbia
ATTACH;FMTTYPE=image/webp:https://picnicheistpublishing.com/wp-content/uploads/2025/09/milos-moonlight-mission-storytime-under-the-sky-strasenburgh-planetarium-rochester-ny.png.webp
END:VEVENT
BEGIN:VEVENT
DTSTART;TZID=America/New_York:20250920T110000
DTEND;TZID=America/New_York:20250920T120000
DTSTAMP:20260424T092649
CREATED:20250912T235035Z
LAST-MODIFIED:20250914T122901Z
UID:10000001-1758366000-1758369600@picnicheistpublishing.com
SUMMARY:Reading & Signing with Kathleen M. Blasi
DESCRIPTION:✨ Milo’s Moonlight Mission Reading & Signing with Kathleen M. Blasi ✨\nBring your junior space explorers to Barnes & Noble Victor for an interactive milos moonlight mission reading and book signing with author Kathleen M. Blasi! This special family event celebrates imagination\, togetherness\, and the wonder of the night sky. \nAbout the Book\nIn Milo’s Moonlight Mission\, Captain Milo is ready to launch into outer space — but his most important crew member\, Mom\, is busy with everyday life. When a rare meteor storm lights up the sky\, Milo hopes she’ll join him on one unforgettable adventure. The story blends heartfelt family bonds with a sense of cosmic discovery\, making every milos moonlight mission reading a memorable journey for children and adults alike. \n🌙 Themes: Family bonds\, curiosity\, perseverance\, the magic of night sky watching\n👦 Perfect for: Children ages 4–8\, families who love bedtime stories and stargazing \nMilo’s Moonlight Mission Reading: About the Author\nKathleen M. Blasi writes heartfelt stories that shine a light on everyday heroes\, from children chasing their dreams to families sharing quiet moments together. Based in Upstate New York\, Kathleen is a longtime advocate for literacy and creativity. She has been a driving force in the Rochester Children’s Book Festival and regularly visits schools\, where she inspires young readers and budding writers alike. \nSupport the Author & Independent Publishing\n✨ Take the story home! ✨ Copies of Milo’s Moonlight Mission will be available at the event\, but you can also secure your copy in advance. By purchasing directly from Picnic Heist Publishing\, you’re supporting Kathleen and helping us continue to bring inspiring stories that spark wonder and connection to children and families everywhere. \n👉 Buy Milo’s Moonlight Mission Now »
URL:https://picnicheistpublishing.com/event/milos-moonlight-mission-reading/
LOCATION:Barnes & Noble Victor\, 805 Eastview Mall\, Victor\, NY\, 14564\, United States
ATTACH;FMTTYPE=image/webp:https://picnicheistpublishing.com/wp-content/uploads/2025/09/BN-Moonlight-Mission-Reading.webp
END:VEVENT
END:VCALENDAR